BEGIN:VCALENDAR
VERSION:2.0
PRODID:-//Success Trainer - ECPv5.14.2.1//NONSGML v1.0//EN
CALSCALE:GREGORIAN
METHOD:PUBLISH
X-WR-CALNAME:Success Trainer
X-ORIGINAL-URL:https://success-trainer.madebybrandelemental.com
X-WR-CALDESC:Events for Success Trainer
BEGIN:VTIMEZONE
TZID:America/New_York
BEGIN:DAYLIGHT
TZOFFSETFROM:-0500
TZOFFSETTO:-0400
TZNAME:EDT
DTSTART:20250309T070000
END:DAYLIGHT
BEGIN:STANDARD
TZOFFSETFROM:-0400
TZOFFSETTO:-0500
TZNAME:EST
DTSTART:20251102T060000
END:STANDARD
END:VTIMEZONE
BEGIN:VEVENT
DTSTART;TZID=America/New_York:20250923T080000
DTEND;TZID=America/New_York:20250923T170000
DTSTAMP:20260420T170342
CREATED:20170430T181520Z
LAST-MODIFIED:20191023T170654Z
UID:5279-1758614400-1758646800@success-trainer.madebybrandelemental.com
SUMMARY:Charity Event
DESCRIPTION:Curabitur quis dui volutpat\, cursus eros ut\, commodo elit. Cum sociis natoque penatibus et magnis dis parturient montes\, nascetur ridiculus mus. Curabitur quis dui volutpat\, cursus eros ut\, commodo elit.
URL:https://success-trainer.madebybrandelemental.com/event/charity-event/
LOCATION:Dolphin Resort\, 234 Vista Blvd\, Orlando\, FL\, 32811\, United States
CATEGORIES:Keynote Speaking
ATTACH;FMTTYPE=image/jpeg:https://success-trainer.madebybrandelemental.com/wp-content/uploads/2015/04/upcoming-events-feature1.jpg
END:VEVENT
END:VCALENDAR