BEGIN:VCALENDAR
VERSION:2.0
PRODID:-//Success Trainer - ECPv5.14.2.1//NONSGML v1.0//EN
CALSCALE:GREGORIAN
METHOD:PUBLISH
X-WR-CALNAME:Success Trainer
X-ORIGINAL-URL:https://success-trainer.madebybrandelemental.com
X-WR-CALDESC:Events for Success Trainer
BEGIN:VTIMEZONE
TZID:America/New_York
BEGIN:DAYLIGHT
TZOFFSETFROM:-0500
TZOFFSETTO:-0400
TZNAME:EDT
DTSTART:20250309T070000
END:DAYLIGHT
BEGIN:STANDARD
TZOFFSETFROM:-0400
TZOFFSETTO:-0500
TZNAME:EST
DTSTART:20251102T060000
END:STANDARD
END:VTIMEZONE
BEGIN:VEVENT
DTSTART;TZID=America/New_York:20251013T080000
DTEND;TZID=America/New_York:20251013T170000
DTSTAMP:20260420T170243
CREATED:20170430T182303Z
LAST-MODIFIED:20191023T170816Z
UID:5285-1760342400-1760374800@success-trainer.madebybrandelemental.com
SUMMARY:Work & Brunch
DESCRIPTION:Curabitur quis dui volutpat\, cursus eros ut\, commodo elit. Cum sociis natoque penatibus et magnis dis parturient montes\, nascetur ridiculus mus. Curabitur quis dui volutpat\, cursus eros ut\, commodo elit.
URL:https://success-trainer.madebybrandelemental.com/event/work-brunch/
LOCATION:Westin Grand Bohemian\, 32 Orange Ave\, Orlando\, FL\, 32711\, United States
CATEGORIES:Keynote Speaking
ATTACH;FMTTYPE=image/jpeg:https://success-trainer.madebybrandelemental.com/wp-content/uploads/2015/04/upcoming-events-feature3.jpg
END:VEVENT
END:VCALENDAR